BEGIN:VCALENDAR
VERSION:2.0
PRODID:-//217.160.0.80//NONSGML kigkonsult.se iCalcreator 2.20//
CALSCALE:GREGORIAN
METHOD:PUBLISH
X-WR-TIMEZONE:UTC
BEGIN:VEVENT
UID:event13@Commune de Brecé (53)
DTSTAMP:20260420T121240Z
CATEGORIES:Repas
DESCRIPTION:Repas des Ainés \nCatégorie: Repas\nLien: https://www.brece.com
 /index.php?option=com_jem&view=event&id=13:repas-des-aines\n
DTSTART:20261010T120000Z
DTEND:20261010T120000Z
LOCATION:Salle Polyvalente\,rue des Sports\,53120 Brecé
SUMMARY:Repas des Ainés 
URL:https://www.brece.com/index.php?option=com_jem&view=event&id=13:repas-d
 es-aines
END:VEVENT
END:VCALENDAR
