BEGIN:VCALENDAR
VERSION:2.0
PRODID:-//217.160.0.80//NONSGML kigkonsult.se iCalcreator 2.20//
CALSCALE:GREGORIAN
METHOD:PUBLISH
X-WR-TIMEZONE:UTC
BEGIN:VEVENT
UID:event13@Commune de Brecé (53)
DTSTAMP:20260422T104608Z
CATEGORIES:Repas
DESCRIPTION:Repas des Ainés \nCatégorie: Repas\nLien: https://www.brece.com
 /index.php?option=com_jem&view=event&id=13:repas-des-aines\n
DTSTART:20261010T120000Z
DTEND:20261010T120000Z
LOCATION:Salle Polyvalente\,rue des Sports\,53120 Brecé
SUMMARY:Repas des Ainés 
URL:https://www.brece.com/index.php?option=com_jem&view=event&id=13:repas-d
 es-aines
END:VEVENT
BEGIN:VEVENT
UID:event4@Commune de Brecé (53)
DTSTAMP:20260422T104608Z
CATEGORIES:Repas
DESCRIPTION:Journée pizza par Brecé Sports VOLLEY\nCatégorie: Repas\nLien: 
 https://www.brece.com/index.php?option=com_jem&view=event&id=4:journee-piz
 za-par-brece-sports-volley\n
DTSTART;VALUE=DATE:20261115
DTEND;VALUE=DATE:20261116
LOCATION:Salle Polyvalente\,rue des Sports\,53120 Brecé
SUMMARY:Journée pizza par Brecé Sports VOLLEY
URL:https://www.brece.com/index.php?option=com_jem&view=event&id=4:journee-
 pizza-par-brece-sports-volley
END:VEVENT
BEGIN:VEVENT
UID:event11@Commune de Brecé (53)
DTSTAMP:20260422T104608Z
CATEGORIES:Repas
DESCRIPTION:TRIPES - AAPPMA - (Pêche)\nCatégorie: Repas\nLien: https://www.
 brece.com/index.php?option=com_jem&view=event&id=11:tripes-aappma-peche\n
DTSTART;VALUE=DATE:20261129
DTEND;VALUE=DATE:20261130
LOCATION:Salle Polyvalente\,rue des Sports\,53120 Brecé
SUMMARY:TRIPES - AAPPMA - (Pêche)
URL:https://www.brece.com/index.php?option=com_jem&view=event&id=11:tripes-
 aappma-peche
END:VEVENT
END:VCALENDAR
