BEGIN:VCALENDAR
VERSION:2.0
PRODID:-//217.160.0.80//NONSGML kigkonsult.se iCalcreator 2.20//
CALSCALE:GREGORIAN
METHOD:PUBLISH
X-WR-TIMEZONE:UTC
BEGIN:VEVENT
UID:event18@Commune de Brecé (53)
DTSTAMP:20260420T114752Z
CATEGORIES:Commémoration
DESCRIPTION:COMMÉMORATION DE LA VICTOIRE 1939-1945\nCatégorie: Commémoratio
 n\nLien: https://www.brece.com/index.php?option=com_jem&view=event&id=18:c
 ommemoration-de-la-victoire-1939-1945\n
DTSTART:20260508T113000Z
DTEND:20260508T123000Z
LOCATION:Salle Polyvalente\,rue des Sports\,53120 Brecé
SUMMARY:COMMÉMORATION DE LA VICTOIRE 1939-1945
URL:https://www.brece.com/index.php?option=com_jem&view=event&id=18:commemo
 ration-de-la-victoire-1939-1945
END:VEVENT
BEGIN:VEVENT
UID:event3@Commune de Brecé (53)
DTSTAMP:20260420T114752Z
CATEGORIES:Randonnée
DESCRIPTION: ÉDITION DE LA RANDO DE LA COLMONT\nCatégorie: Randonnée\nLien:
  https://www.brece.com/index.php?option=com_jem&view=event&id=3:edition-de
 -la-rando-de-la-colmont\n
DTSTART:20260531T080000Z
DTEND:20260531T140000Z
LOCATION:Chemins de randonnées\,53120 Brecé
SUMMARY: ÉDITION DE LA RANDO DE LA COLMONT
URL:https://www.brece.com/index.php?option=com_jem&view=event&id=3:edition-
 de-la-rando-de-la-colmont
END:VEVENT
BEGIN:VEVENT
UID:event26@Commune de Brecé (53)
DTSTAMP:20260420T114752Z
CATEGORIES:Animation
DESCRIPTION:Fête de la Pêche avec initiation pêche à l’étang de la Graffard
 ière à Colombiers du Plessis\nCatégorie: Animation\nLien: https://www.brec
 e.com/index.php?option=com_jem&view=event&id=26:fete-de-la-peche-avec-init
 iation-peche-a-l-etang-de-la-graffardiere-a-colombiers-du-plessis\n
DTSTART:20260606T080000Z
DTEND:20260606T140000Z
LOCATION:Commune de Brecé\,53120 Brecé
SUMMARY:Fête de la Pêche avec initiation pêche à l’étang de la Graffardière
  à Colombiers du Plessis
URL:https://www.brece.com/index.php?option=com_jem&view=event&id=26:fete-de
 -la-peche-avec-initiation-peche-a-l-etang-de-la-graffardiere-a-colombiers-
 du-plessis
END:VEVENT
BEGIN:VEVENT
UID:event16@Commune de Brecé (53)
DTSTAMP:20260420T114752Z
CATEGORIES:Animation
DESCRIPTION:LES MOTARDS ONT DU COEUR\nCatégorie: Animation\nLien: https://w
 ww.brece.com/index.php?option=com_jem&view=event&id=16:les-motards-ont-du-
 coeur\n
DTSTART:20260607T112000Z
DTEND:20260607T114500Z
LOCATION:Salle Polyvalente\,rue des Sports\,53120 Brecé
SUMMARY:LES MOTARDS ONT DU COEUR
URL:https://www.brece.com/index.php?option=com_jem&view=event&id=16:les-mot
 ards-ont-du-coeur
END:VEVENT
BEGIN:VEVENT
UID:event30@Commune de Brecé (53)
DTSTAMP:20260420T114752Z
CATEGORIES:Sortie
DESCRIPTION:Visite du musée Maurice Dufresne et château d’Azay le Rideau pa
 r Familles rurales\nCatégorie: Sortie\nLien: https://www.brece.com/index.p
 hp?option=com_jem&view=event&id=30:visite-du-musee-maurice-dufresne-et-cha
 teau-d-azay-le-rideau-par-familles-rurales\n
DTSTART;VALUE=DATE:20260627
DTEND;VALUE=DATE:20260628
SUMMARY:Visite du musée Maurice Dufresne et château d’Azay le Rideau par Fa
 milles rurales
URL:https://www.brece.com/index.php?option=com_jem&view=event&id=30:visite-
 du-musee-maurice-dufresne-et-chateau-d-azay-le-rideau-par-familles-rurales
END:VEVENT
BEGIN:VEVENT
UID:event8@Commune de Brecé (53)
DTSTAMP:20260420T114752Z
CATEGORIES:Journées du Patrimoine
DESCRIPTION:Journée Européenne du Patrimoine\nCatégorie: Journées du Patrim
 oine\nLien: https://www.brece.com/index.php?option=com_jem&view=event&id=8
 :journee-europeenne-du-patrimoine\n
DTSTART:20260919T100000Z
DTEND:20260920T180000Z
LOCATION:Commune de Brecé\,53120 Brecé
SUMMARY:Journée Européenne du Patrimoine
URL:https://www.brece.com/index.php?option=com_jem&view=event&id=8:journee-
 europeenne-du-patrimoine
END:VEVENT
BEGIN:VEVENT
UID:event13@Commune de Brecé (53)
DTSTAMP:20260420T114752Z
CATEGORIES:Repas
DESCRIPTION:Repas des Ainés \nCatégorie: Repas\nLien: https://www.brece.com
 /index.php?option=com_jem&view=event&id=13:repas-des-aines\n
DTSTART:20261010T120000Z
DTEND:20261010T120000Z
LOCATION:Salle Polyvalente\,rue des Sports\,53120 Brecé
SUMMARY:Repas des Ainés 
URL:https://www.brece.com/index.php?option=com_jem&view=event&id=13:repas-d
 es-aines
END:VEVENT
BEGIN:VEVENT
UID:event21@Commune de Brecé (53)
DTSTAMP:20260420T114752Z
CATEGORIES:Commémoration
DESCRIPTION:COMMÉMORATION DE LA L'ARMISTICE 11  NOVEMBRE 1918\nCatégorie: C
 ommémoration\nLien: https://www.brece.com/index.php?option=com_jem&view=ev
 ent&id=21:commemoration-de-la-l-armistice-11-novembre-1918\n
DTSTART:20261111T113000Z
DTEND:20261111T123000Z
LOCATION:Salle Polyvalente\,rue des Sports\,53120 Brecé
SUMMARY:COMMÉMORATION DE LA L'ARMISTICE 11  NOVEMBRE 1918
URL:https://www.brece.com/index.php?option=com_jem&view=event&id=21:commemo
 ration-de-la-l-armistice-11-novembre-1918
END:VEVENT
BEGIN:VEVENT
UID:event4@Commune de Brecé (53)
DTSTAMP:20260420T114752Z
CATEGORIES:Repas
DESCRIPTION:Journée pizza par Brecé Sports VOLLEY\nCatégorie: Repas\nLien: 
 https://www.brece.com/index.php?option=com_jem&view=event&id=4:journee-piz
 za-par-brece-sports-volley\n
DTSTART;VALUE=DATE:20261115
DTEND;VALUE=DATE:20261116
LOCATION:Salle Polyvalente\,rue des Sports\,53120 Brecé
SUMMARY:Journée pizza par Brecé Sports VOLLEY
URL:https://www.brece.com/index.php?option=com_jem&view=event&id=4:journee-
 pizza-par-brece-sports-volley
END:VEVENT
BEGIN:VEVENT
UID:event11@Commune de Brecé (53)
DTSTAMP:20260420T114752Z
CATEGORIES:Repas
DESCRIPTION:TRIPES - AAPPMA - (Pêche)\nCatégorie: Repas\nLien: https://www.
 brece.com/index.php?option=com_jem&view=event&id=11:tripes-aappma-peche\n
DTSTART;VALUE=DATE:20261129
DTEND;VALUE=DATE:20261130
LOCATION:Salle Polyvalente\,rue des Sports\,53120 Brecé
SUMMARY:TRIPES - AAPPMA - (Pêche)
URL:https://www.brece.com/index.php?option=com_jem&view=event&id=11:tripes-
 aappma-peche
END:VEVENT
END:VCALENDAR
